BEGIN:VCALENDAR
VERSION:2.0
PRODID:-//Twelve Bar - ECPv6.15.8//NONSGML v1.0//EN
CALSCALE:GREGORIAN
METHOD:PUBLISH
X-WR-CALNAME:Twelve Bar
X-ORIGINAL-URL:https://test.twelvebar.uk
X-WR-CALDESC:Events for Twelve Bar
REFRESH-INTERVAL;VALUE=DURATION:PT1H
X-Robots-Tag:noindex
X-PUBLISHED-TTL:PT1H
BEGIN:VTIMEZONE
TZID:UTC
BEGIN:STANDARD
TZOFFSETFROM:+0000
TZOFFSETTO:+0000
TZNAME:UTC
DTSTART:20240101T000000
END:STANDARD
END:VTIMEZONE
BEGIN:VEVENT
DTSTART;TZID=UTC:20251031T220000
DTEND;TZID=UTC:20251101T043000
DTSTAMP:20260421T221729
CREATED:20251020T095542Z
LAST-MODIFIED:20251020T101308Z
UID:10000151-1761948000-1761971400@test.twelvebar.uk
SUMMARY:Block Party – Scary Hours – 31st October
DESCRIPTION:
URL:https://test.twelvebar.uk/event/block-party-scary-hours-31st-october/
LOCATION:Twelve Bar\, Twelve Bar 19 Alexandra Street Southend On Sea\, Essex SS1 1BX United Kingdom
CATEGORIES:Club Nights
ATTACH;FMTTYPE=image/webp:https://test.twelvebar.uk/wp-content/uploads/2025/10/PRINTING-POSTER-HALLOWEEN-scaled-1.webp
END:VEVENT
END:VCALENDAR