BEGIN:VCALENDAR
VERSION:2.0
PRODID:-//Twelve Bar - ECPv6.15.8//NONSGML v1.0//EN
CALSCALE:GREGORIAN
METHOD:PUBLISH
X-WR-CALNAME:Twelve Bar
X-ORIGINAL-URL:https://test.twelvebar.uk
X-WR-CALDESC:Events for Twelve Bar
REFRESH-INTERVAL;VALUE=DURATION:PT1H
X-Robots-Tag:noindex
X-PUBLISHED-TTL:PT1H
BEGIN:VTIMEZONE
TZID:UTC
BEGIN:STANDARD
TZOFFSETFROM:+0000
TZOFFSETTO:+0000
TZNAME:UTC
DTSTART:20240101T000000
END:STANDARD
END:VTIMEZONE
BEGIN:VEVENT
DTSTART;TZID=UTC:20251031T220000
DTEND;TZID=UTC:20251101T040000
DTSTAMP:20260421T220104
CREATED:20251020T095734Z
LAST-MODIFIED:20251020T100923Z
UID:10000152-1761948000-1761969600@test.twelvebar.uk
SUMMARY:Jook So Halloween Wine up – 1st November
DESCRIPTION:
URL:https://test.twelvebar.uk/event/jook-so-halloween-wine-up-1st-november/
LOCATION:Twelve Bar\, Twelve Bar 19 Alexandra Street Southend On Sea\, Essex SS1 1BX United Kingdom
CATEGORIES:Jook So
ATTACH;FMTTYPE=image/webp:https://test.twelvebar.uk/wp-content/uploads/2025/10/image0-6.webp
END:VEVENT
END:VCALENDAR