BEGIN:VCALENDAR
VERSION:2.0
PRODID:-//Twelve Bar - ECPv6.15.8//NONSGML v1.0//EN
CALSCALE:GREGORIAN
METHOD:PUBLISH
X-ORIGINAL-URL:https://test.twelvebar.uk
X-WR-CALDESC:Events for Twelve Bar
REFRESH-INTERVAL;VALUE=DURATION:PT1H
X-Robots-Tag:noindex
X-PUBLISHED-TTL:PT1H
BEGIN:VTIMEZONE
TZID:UTC
BEGIN:STANDARD
TZOFFSETFROM:+0000
TZOFFSETTO:+0000
TZNAME:UTC
DTSTART:20230101T000000
END:STANDARD
END:VTIMEZONE
BEGIN:VEVENT
DTSTART;TZID=UTC:20240504T190000
DTEND;TZID=UTC:20240504T230000
DTSTAMP:20260422T032653
CREATED:20240408T000920Z
LAST-MODIFIED:20240408T000920Z
UID:10000085-1714849200-1714863600@test.twelvebar.uk
SUMMARY:Old School R&B Bottomless Brunch
DESCRIPTION:If you’re looking for the ultimate day party to celebrate any occasion\, look no further than Twelve Bottomless Brunch Party. If you’re NOT into letting your hair down\, laughing out loud and having fun\, then it’s probably not for you.Our venue is split across two spaces\, including a basement club (perfect for private party bookings)\, our main dining hall is where guests can feast on the delicious dishes included in our brunch menu and enjoy the bottomless drinks on offer\, whilst being entertained by our team of DJ’s\, Hosts.Guests can enjoy a platters of our delicious Tex-Mex nachos\, including plant-based and gluten-free options.\nBottomless drink choices include Pornstar Martinis\, Sex on the Beach\, Rum Punch\, Aperol Spritz Prosecco & Beers.\nFree birthday cake & sparkler show for all birthday bookings at Twelve Brunch!\n\n﻿﻿﻿
URL:https://test.twelvebar.uk/event/old-school-rb-bottomless-brunch-5/2024-05-04/
LOCATION:Home
CATEGORIES:Parties
ATTACH;FMTTYPE=image/jpeg:https://test.twelvebar.uk/wp-content/uploads/2024/04/Black-Maximalist-Sunday-Brunch-Party-Celebrat-2.jpg
END:VEVENT
BEGIN:VEVENT
DTSTART;TZID=UTC:20240427T190000
DTEND;TZID=UTC:20240427T230000
DTSTAMP:20260422T032653
CREATED:20240408T000920Z
LAST-MODIFIED:20240408T000920Z
UID:10000084-1714244400-1714258800@test.twelvebar.uk
SUMMARY:Old School R&B Bottomless Brunch
DESCRIPTION:If you’re looking for the ultimate day party to celebrate any occasion\, look no further than Twelve Bottomless Brunch Party. If you’re NOT into letting your hair down\, laughing out loud and having fun\, then it’s probably not for you.Our venue is split across two spaces\, including a basement club (perfect for private party bookings)\, our main dining hall is where guests can feast on the delicious dishes included in our brunch menu and enjoy the bottomless drinks on offer\, whilst being entertained by our team of DJ’s\, Hosts.Guests can enjoy a platters of our delicious Tex-Mex nachos\, including plant-based and gluten-free options.\nBottomless drink choices include Pornstar Martinis\, Sex on the Beach\, Rum Punch\, Aperol Spritz Prosecco & Beers.\nFree birthday cake & sparkler show for all birthday bookings at Twelve Brunch!\n\n﻿﻿﻿
URL:https://test.twelvebar.uk/event/old-school-rb-bottomless-brunch-5/2024-04-27/
LOCATION:Home
CATEGORIES:Parties
ATTACH;FMTTYPE=image/jpeg:https://test.twelvebar.uk/wp-content/uploads/2024/04/Black-Maximalist-Sunday-Brunch-Party-Celebrat-2.jpg
END:VEVENT
BEGIN:VEVENT
DTSTART;TZID=UTC:20240420T190000
DTEND;TZID=UTC:20240420T230000
DTSTAMP:20260422T032653
CREATED:20240408T000920Z
LAST-MODIFIED:20240408T000920Z
UID:10000083-1713639600-1713654000@test.twelvebar.uk
SUMMARY:Old School R&B Bottomless Brunch
DESCRIPTION:If you’re looking for the ultimate day party to celebrate any occasion\, look no further than Twelve Bottomless Brunch Party. If you’re NOT into letting your hair down\, laughing out loud and having fun\, then it’s probably not for you.Our venue is split across two spaces\, including a basement club (perfect for private party bookings)\, our main dining hall is where guests can feast on the delicious dishes included in our brunch menu and enjoy the bottomless drinks on offer\, whilst being entertained by our team of DJ’s\, Hosts.Guests can enjoy a platters of our delicious Tex-Mex nachos\, including plant-based and gluten-free options.\nBottomless drink choices include Pornstar Martinis\, Sex on the Beach\, Rum Punch\, Aperol Spritz Prosecco & Beers.\nFree birthday cake & sparkler show for all birthday bookings at Twelve Brunch!\n\n﻿﻿﻿
URL:https://test.twelvebar.uk/event/old-school-rb-bottomless-brunch-5/2024-04-20/
LOCATION:Home
CATEGORIES:Parties
ATTACH;FMTTYPE=image/jpeg:https://test.twelvebar.uk/wp-content/uploads/2024/04/Black-Maximalist-Sunday-Brunch-Party-Celebrat-2.jpg
END:VEVENT
END:VCALENDAR